BEGIN:VCALENDAR
VERSION:2.0
PRODID:-//Tukios.com/
BEGIN:VEVENT
UID:a033df26-4099-4f84-ac55-196ffaff26cc@www.davismortuaryservice.com
DTSTAMP:20260422T000630Z
DTSTART:20260424T150000Z
DTEND:20260424T160000Z
SUMMARY:Celebration of Life
DESCRIPTION:
URL:https://www.davismortuaryservice.com/obituaries/jacquelyn-williams
LOCATION: 230 Monroe St.  Gretna LA 70053
GEO:29.9372727;-90.0512516
END:VEVENT
END:VCALENDAR