BEGIN:VCALENDAR
VERSION:2.0
PRODID:-//Tukios.com/
BEGIN:VEVENT
UID:43f2c0b4-a3d3-4517-9328-9d8487aef182@www.davismortuaryservice.com
DTSTAMP:20260422T000331Z
DTSTART:20260424T133000Z
DTEND:20260424T150000Z
SUMMARY:Visitation
DESCRIPTION:
URL:https://www.davismortuaryservice.com/obituaries/jacquelyn-williams
LOCATION: 230 Monroe St.  Gretna LA 70053
GEO:29.9372727;-90.0512516
END:VEVENT
END:VCALENDAR