BEGIN:VCALENDAR
VERSION:2.0
PRODID:-//Tukios.com/
BEGIN:VEVENT
UID:4c6e16a6-0371-4190-be8b-ed765301ca38@www.davismortuaryservice.com
DTSTAMP:20260423T220156Z
DTSTART:20260502T150000Z
DTEND:20260502T160000Z
SUMMARY:Homegoing Celebration
DESCRIPTION:
URL:https://www.davismortuaryservice.com/obituaries/edward-lee-jr-2026
LOCATION: 1737 L B Landry Ave  New Orleans LA 70114
GEO:29.9372311;-90.0417331
END:VEVENT
END:VCALENDAR