BEGIN:VCALENDAR
VERSION:2.0
PRODID:-//Tukios.com/
BEGIN:VEVENT
UID:3ccfc889-46c9-4d0f-8596-434f75897e24@www.davismortuaryservice.com
DTSTAMP:20260423T220040Z
DTSTART:20260502T133000Z
DTEND:20260502T150000Z
SUMMARY:Visitation
DESCRIPTION:
URL:https://www.davismortuaryservice.com/obituaries/edward-lee-jr-2026
LOCATION: 1737 L B Landry Ave  New Orleans LA 70114
GEO:29.9372311;-90.0417331
END:VEVENT
END:VCALENDAR