BEGIN:VCALENDAR
VERSION:2.0
PRODID:-//Tukios.com/
BEGIN:VEVENT
UID:9547633a-7215-489b-b2da-d829740dbd88@www.davismortuaryservice.com
DTSTAMP:20260420T192753Z
DTSTART:20260423T150000Z
DTEND:20260423T160000Z
SUMMARY:Homegoing Celebration
DESCRIPTION:
URL:https://www.davismortuaryservice.com/obituaries/edward-holmes-sr
LOCATION: 6820 W. B. Expressway  Marrero LA 70072
GEO:29.8944064;-90.123087
END:VEVENT
END:VCALENDAR