BEGIN:VCALENDAR
VERSION:2.0
PRODID:-//Tukios.com/
BEGIN:VEVENT
UID:d34e3d3c-2c48-444c-b8c4-f6af29aaaec9@www.davismortuaryservice.com
DTSTAMP:20260423T191325Z
DTSTART:20260425T150000Z
DTEND:20260425T160000Z
SUMMARY:Celebration of Life
DESCRIPTION:
URL:https://www.davismortuaryservice.com/obituaries/corey-keller
LOCATION: 6820 W. B. Expressway  Marrero LA 70072
GEO:29.8944064;-90.123087
END:VEVENT
END:VCALENDAR