BEGIN:VCALENDAR
VERSION:2.0
PRODID:-//Tukios.com/
BEGIN:VEVENT
UID:ccc3e17d-19cc-4747-af7a-f36ee9d99c7d@www.davismortuaryservice.com
DTSTAMP:20260423T190817Z
DTSTART:20260425T133000Z
DTEND:20260425T150000Z
SUMMARY:Visitation
DESCRIPTION:
URL:https://www.davismortuaryservice.com/obituaries/corey-keller
LOCATION: 6820 W. B. Expressway  Marrero LA 70072
GEO:29.8944064;-90.123087
END:VEVENT
END:VCALENDAR