BEGIN:VCALENDAR
VERSION:2.0
PRODID:-//Tukios.com/
BEGIN:VEVENT
UID:6c394a38-ba0e-4a2b-9ed0-ea7804d691dd@www.davismortuaryservice.com
DTSTAMP:20260423T225805Z
DTSTART:20260502T150000Z
DTEND:20260502T160000Z
SUMMARY:Celebration of Life
DESCRIPTION:
URL:https://www.davismortuaryservice.com/obituaries/bertha-boloney
LOCATION:New Jerusalem Baptist Church 414 Westwego Ave  Bridge City LA 
	70094
GEO:29.9337554;-90.1667179
END:VEVENT
END:VCALENDAR